BEGIN:VCALENDAR
PRODID:-//Session events Calendar//IBA//EN
CALSCALE:GREGORIAN
VERSION:2.0
BEGIN:VEVENT
DTSTAMP:20260420T120742Z
DTSTART:20260127T123000Z
DTEND:20260127T131500Z
SUMMARY:Global tax disputes: evolving legal standards and strategic litig
 ation trends
DESCRIPTION:\n	Treaty abuse\, override\, and GAARcase comparisons\n	Litig
 ation shaping private equity risk and employee mobility\n	Dividend strip
 ping litigation across Europe\n	Beneficial ownership and treaty access d
 isputes\n\n\nReporter\n\nElena Kool De Brauw Blackstone Westbroek\, Amst
 erdam
LOCATION:
UID:4668047d-4ff3-4b2e-ba52-f55a78364c3b
END:VEVENT
END:VCALENDAR
