BEGIN:VCALENDAR
PRODID:-//Session events Calendar//IBA//EN
CALSCALE:GREGORIAN
VERSION:2.0
BEGIN:VEVENT
DTSTAMP:20260420T120736Z
DTSTART:20260127T131500Z
DTEND:20260127T141500Z
SUMMARY:Lunch
DESCRIPTION:
LOCATION:
UID:77c3adcb-f64a-4b61-b34a-8dbe902b5c0b
END:VEVENT
END:VCALENDAR
