BEGIN:VCALENDAR
PRODID:-//Session events Calendar//IBA//EN
CALSCALE:GREGORIAN
VERSION:2.0
BEGIN:VEVENT
DTSTAMP:20260420T102402Z
DTSTART:20260127T113000Z
DTEND:20260127T123000Z
SUMMARY:Insurance in tax-critical transactions
DESCRIPTION:\n	Beyond M&amp\;A: insuring withholding\, VAT\, TPand RETT r
 isks\n	Insurance-linked structures in capital planning\n	Claims\, exclus
 ions\, premium sizing and jurisdictional evolution\n	UK\, USA\, Spain: m
 ature insurance markets\; Italy emerging\n	Client strategies for using t
 ax insurance as deal protectors\n	Broker and underwriter engagement: bui
 lding tax certainty\n	Case studies in active claims and coverage resolut
 ions\n	Underwriting tax structuring with dispute anticipation\n\n\nRepor
 ter\n\nMark Galea Salomone WH Partners\, Ta' Xbiex\n
LOCATION:
UID:db8b1061-51df-42d1-bb47-27e0f53a41af
END:VEVENT
END:VCALENDAR
