BEGIN:VCALENDAR
PRODID:-//Session events Calendar//IBA//EN
CALSCALE:GREGORIAN
VERSION:2.0
BEGIN:VEVENT
DTSTAMP:20260420T120741Z
DTSTART:20260127T110000Z
DTEND:20260127T113000Z
SUMMARY:Coffee/ tea break
DESCRIPTION:
LOCATION:
UID:d2eed2f6-3ea6-42fb-ab0f-a63127a27bd4
END:VEVENT
END:VCALENDAR
