BEGIN:VCALENDAR
PRODID:-//Session events Calendar//IBA//EN
CALSCALE:GREGORIAN
VERSION:2.0
BEGIN:VEVENT
DTSTAMP:20260420T120736Z
DTSTART:20260127T094500Z
DTEND:20260127T110000Z
SUMMARY:M&A part 2: tax risk and compliance 
DESCRIPTION:\n	Indirect transfer of shares\n	LOB\, PPTand domestic anti-a
 buse provisions\n	Pillar 2 and M&amp\;A\n	Non-resident indirect capital 
 gains taxes\n	Defensive tax measures\n	Use and misuse of tax insurance a
 nd indemnities\n\n\nReporter\n\nWieger Kop HOUTHOFF\, Amsterdam
LOCATION:
UID:ba1a687d-e393-4eee-8ce6-e08be0c6f542
END:VEVENT
END:VCALENDAR
