BEGIN:VCALENDAR
PRODID:-//Session events Calendar//IBA//EN
CALSCALE:GREGORIAN
VERSION:2.0
BEGIN:VEVENT
DTSTAMP:20260420T120736Z
DTSTART:20260127T083000Z
DTEND:20260127T094500Z
SUMMARY:M&A part 1: structuring and strategy 
DESCRIPTION:\n	Debt push down possibilities and constraints\n	Recapitalis
 ation measures\n	Leveraged transactions / structuring with debt\n	Cross 
 border migrations and foreign (triangular) mergers\n	Pricing of deals / 
 valuation issues and trends\n\n\nReporter\n\nMathieu Lizotte PwC Canada\
 , Québec
LOCATION:
UID:1891f792-eed4-42c9-8c8e-1f6558af52da
END:VEVENT
END:VCALENDAR
