BEGIN:VCALENDAR
PRODID:-//Session events Calendar//IBA//EN
CALSCALE:GREGORIAN
VERSION:2.0
BEGIN:VEVENT
DTSTAMP:20260420T120742Z
DTSTART:20260127T080000Z
DTEND:20260127T083000Z
SUMMARY:Networking breakfast
DESCRIPTION:
LOCATION:
UID:5f57d4d8-fa51-4c2d-abf3-7dea3aa24695
END:VEVENT
END:VCALENDAR
