BEGIN:VCALENDAR
PRODID:-//Session events Calendar//IBA//EN
CALSCALE:GREGORIAN
VERSION:2.0
BEGIN:VEVENT
DTSTAMP:20260420T102436Z
DTSTART:20260126T181500Z
DTEND:20260126T190000Z
SUMMARY:Global distressed debt restructurings
DESCRIPTION:\n	Carve-outs\, debt hive-ups and internal and external debt 
 restructurings\n	Cancellation of debt income recognition and shareholder
  loan traps\n	Worthless and impaired stock and debt considerations\n	Ins
 olvency strategies and liability management\n	Jurisdictional restructuri
 ng regimes and potential treaty relief\n	Tax insurance in distressed tra
 nsactions\n	Other cross border issues (e.g. CFC\, PE investor\, tax attr
 ibute\, transfer tax\, and inversion considerations)\n\n\nReporter\n\nJa
 vier Calle Bescós Cuatrecasas\, Madrid
LOCATION:
UID:1ae685a1-1966-435b-8635-3e205da7ca89
END:VEVENT
END:VCALENDAR
