BEGIN:VCALENDAR
PRODID:-//Session events Calendar//IBA//EN
CALSCALE:GREGORIAN
VERSION:2.0
BEGIN:VEVENT
DTSTAMP:20260420T115525Z
DTSTART:20260126T171500Z
DTEND:20260126T181500Z
SUMMARY:Taxing the invisible: IP\, intangibles & the future of global pla
 nning
DESCRIPTION:\n	IP structure redesign after minimum tax rules\n	Hybrid mis
 matches and DEMPEin licensing strategies\n	Treaty override on software a
 nd services withholding\n	Taxation of intangibles-driven value and gains
 \n	Disclosure burdens and tax planning consequences\n	Sourcing intangibl
 e property by R&amp\;Epersonnel costs and activities\n\n\n\nReporter\n\n
 Karanjot Singh Khurana Lakshmikumaran &amp\; Sridharan\, Delhi\n
LOCATION:
UID:10ffe01a-8df5-4ae0-90e6-8a367f711bf8
END:VEVENT
END:VCALENDAR
