BEGIN:VCALENDAR
PRODID:-//Session events Calendar//IBA//EN
CALSCALE:GREGORIAN
VERSION:2.0
BEGIN:VEVENT
DTSTAMP:20260420T120706Z
DTSTART:20260126T163000Z
DTEND:20260126T171500Z
SUMMARY:Navigating real estate around the world
DESCRIPTION:\n	Trends in real estate around the globe\n	RETTmechanics and
  share deal planning in Austria/Germany\n	Anti-abuse screening for real 
 estate vehicles (including real estate provisions in bilateral treaties)
 \n	PEand delegation risk\n	Sector spotlight: datacenters\n\n\nReporter\n
 \nAdnand Sulejmani Ashurst\, Luxembourg City
LOCATION:
UID:909804c4-6ce1-4c1c-a86e-cc73425b0324
END:VEVENT
END:VCALENDAR
