BEGIN:VCALENDAR
PRODID:-//Session events Calendar//IBA//EN
CALSCALE:GREGORIAN
VERSION:2.0
BEGIN:VEVENT
DTSTAMP:20260420T115607Z
DTSTART:20260126T160000Z
DTEND:20260126T163000Z
SUMMARY:Coffee/ tea break
DESCRIPTION:
LOCATION:
UID:2e907024-9353-4f95-b663-09ead3aa4e03
END:VEVENT
END:VCALENDAR
