BEGIN:VCALENDAR
PRODID:-//Session events Calendar//IBA//EN
CALSCALE:GREGORIAN
VERSION:2.0
BEGIN:VEVENT
DTSTAMP:20260420T120629Z
DTSTART:20260126T145000Z
DTEND:20260126T160000Z
SUMMARY:Capital in motion: funds\, private equity  and tax efficiency
DESCRIPTION:1. Entity classification and cross-border inconsistencies\n\n
 \n	Classification mismatches across jurisdictions\n	Impact of Pillar Two
  on fund structures and holding companies\n\n\n2. Private debt / direct 
 lending\n\n\n	Treaty access\, beneficial ownership\, and tax residency c
 onsiderations\n	U.S. trade or business (USTB) exposure and management at
 tribution risks\n\n\n3. Structuring and operational challenges\n\n\n	Sub
 stance requirements for holding and platform companies\n	Cross-border ma
 nagement company structuring: PE risk\, profit allocation\, remote work\
 n	Continuation funds\, NAV loans\, and GP-led restructurings\, “ETF-isat
 ion” of private funds and the retailisation of alternatives\n\n\n\nRepor
 ter\nMathieu Lizotte PwC Canada\, Québec\n\n
LOCATION:
UID:5988f50e-ea46-4c79-917a-6ec06943301b
END:VEVENT
END:VCALENDAR
