BEGIN:VCALENDAR
PRODID:-//Session events Calendar//IBA//EN
CALSCALE:GREGORIAN
VERSION:2.0
BEGIN:VEVENT
DTSTAMP:20260420T120707Z
DTSTART:20260126T134000Z
DTEND:20260126T145000Z
SUMMARY:Securitisation transactions: what’s next after receivables\, and 
 do taxes play a role?
DESCRIPTION:Taking the example of the evolution of real estate securitisa
 tion transactions in Italy\, the panel will start from looking at the tr
 ading of NPL and the treatment of the real estate securities and navigat
 e some recent cross border transactions involving the securitisation of 
 real estate assets. Including a discussion on vehicles and beneficial ow
 nership.\n\nReporter\n\nJavier Calle Bescós Cuatrecasas\, Madrid\n
LOCATION:
UID:64a37fb1-aa88-4d0d-bc03-18b2fdc180d6
END:VEVENT
END:VCALENDAR
