BEGIN:VCALENDAR
PRODID:-//Session events Calendar//IBA//EN
CALSCALE:GREGORIAN
VERSION:2.0
BEGIN:VEVENT
DTSTAMP:20260420T102403Z
DTSTART:20260126T124000Z
DTEND:20260126T134000Z
SUMMARY:Lunch
DESCRIPTION:
LOCATION:
UID:a3d46c30-eafc-4fb4-a631-dfe2181be475
END:VEVENT
END:VCALENDAR
