BEGIN:VCALENDAR
PRODID:-//Session events Calendar//IBA//EN
CALSCALE:GREGORIAN
VERSION:2.0
BEGIN:VEVENT
DTSTAMP:20260420T115607Z
DTSTART:20260126T113000Z
DTEND:20260126T124000Z
SUMMARY:Global financing under pressure: tax risks\, fund structuring and
  regulatory hurdles
DESCRIPTION:This panel will look at current hot tax topics in the lifecyc
 le of a non-bank financing from inception to termination\, including\n\n
 \n	Initial lending\n	\n		Regulatory constraints on lending and different
  tax treatments of direct lending funds whether EU regulated\, sovereign
  or pension or otherwise\n		Structuring to enhance double tax treaty acc
 ess\n	\n	\n\n\n\n	During the term of the financing\n	\n		Beneficial owne
 rship analysis developments\n		Secondary trading\n	\n	\n\n\n\n	Repayment
 /termination issues arising in relation to distressed financings - restr
 ucturing and enforcement issues\n	\n	\n	\n\n\n\n\nReporter\n\nWieger Kop
  HOUTHOFF\, Amsterdam\n
LOCATION:
UID:af810cb5-4708-4587-868f-88cb89e0ed84
END:VEVENT
END:VCALENDAR
