BEGIN:VCALENDAR
PRODID:-//Session events Calendar//IBA//EN
CALSCALE:GREGORIAN
VERSION:2.0
BEGIN:VEVENT
DTSTAMP:20260420T115440Z
DTSTART:20260126T103000Z
DTEND:20260126T113000Z
SUMMARY:Leading through complexity: the tax director’s global view
DESCRIPTION:\n	Responding to global tax reform\n	Reputational risk in lig
 ht of increased transparency\n	Tariffs and the interaction of the tax an
 d trade departments\n	The increased importance of substance in tax plann
 ing\n	Building relationships with regulators under scrutiny\n	Tax insura
 nce as a strategic tool\n\n
LOCATION:
UID:86a20c2f-5190-4b1b-9377-febec69d0ed8
END:VEVENT
END:VCALENDAR
