BEGIN:VCALENDAR
PRODID:-//Session events Calendar//IBA//EN
CALSCALE:GREGORIAN
VERSION:2.0
BEGIN:VEVENT
DTSTAMP:20260420T120629Z
DTSTART:20260126T100000Z
DTEND:20260126T103000Z
SUMMARY:Coffee/ tea break 
DESCRIPTION:
LOCATION:
UID:324a7e17-3fee-498b-8ae5-e9ddaf979652
END:VEVENT
END:VCALENDAR
