BEGIN:VCALENDAR
PRODID:-//Session events Calendar//IBA//EN
CALSCALE:GREGORIAN
VERSION:2.0
BEGIN:VEVENT
DTSTAMP:20260420T120707Z
DTSTART:20260126T074500Z
DTEND:20260126T083000Z
SUMMARY:Networking breakfast
DESCRIPTION:
LOCATION:
UID:b4e4d55f-640f-4e5b-80ba-c2008dc93dc9
END:VEVENT
END:VCALENDAR
