BEGIN:VCALENDAR
PRODID:-//Session events Calendar//IBA//EN
CALSCALE:GREGORIAN
VERSION:2.0
BEGIN:VEVENT
DTSTAMP:20260420T120706Z
DTSTART:20260126T074500Z
DTEND:20260126T190000Z
SUMMARY:Registration
DESCRIPTION:
LOCATION:
UID:1f197c96-b5bd-4c2f-9d19-e5b9965874fb
END:VEVENT
END:VCALENDAR
