BEGIN:VCALENDAR
PRODID:-//Session events Calendar//IBA//EN
CALSCALE:GREGORIAN
VERSION:2.0
BEGIN:VEVENT
DTSTAMP:20260420T133016Z
DTSTART:20251102T221500Z
DTEND:20251103T000000Z
SUMMARY:Opening Ceremony
DESCRIPTION:
LOCATION:Exhibit Hall D\, Metro Toronto Convention Centre 
UID:961314a9-0e68-4b3b-99ad-bd35b67bf409
END:VEVENT
END:VCALENDAR
