BEGIN:VCALENDAR
PRODID:-//Session events Calendar//IBA//EN
CALSCALE:GREGORIAN
VERSION:2.0
BEGIN:VEVENT
DTSTAMP:20260420T133022Z
DTSTART:20251103T130000Z
DTEND:20251103T143000Z
SUMMARY:Taxes Committee national reporters breakfast
DESCRIPTION:A breakfast meeting of the IBA Taxes Committee National Repor
 ters will take place to discuss matters of interest and future activitie
 s\, as well as to provide updates on the activities of the committee.
LOCATION:Room 501\, Level 500\, MTCC
UID:27817e7a-b31e-4a94-bfe2-2fa7c6339d09
END:VEVENT
END:VCALENDAR
