BEGIN:VCALENDAR
PRODID:-//Session events Calendar//IBA//EN
CALSCALE:GREGORIAN
VERSION:2.0
BEGIN:VEVENT
DTSTAMP:20260422T160034Z
DTSTART:20251103T193000Z
DTEND:20251103T204500Z
SUMMARY:Dynamics of the CUSMA renegotiations: lessons learned from treaty
  negotiations worldwide
DESCRIPTION:Panellists will review the latest developments in the renegot
 iation of CUSMA (Canada-United States-Mexico Agreement - USMCA)\, consid
 er the implications of these negotiations\, and reflect on any lessons l
 earned from recent agreements.
LOCATION:Room 713 A+B\, Level 700\, MTCC
UID:3eee5cf1-2535-4707-809d-381ad1c4879f
END:VEVENT
END:VCALENDAR
