BEGIN:VCALENDAR
PRODID:-//Session events Calendar//IBA//EN
CALSCALE:GREGORIAN
VERSION:2.0
BEGIN:VEVENT
DTSTAMP:20260420T145829Z
DTSTART:20251103T160000Z
DTEND:20251103T173000Z
SUMMARY:Global minimum tax: pilarious but not funny
DESCRIPTION:This panel will discuss developments related to the allocatio
 n of risk and responsibility for Pillar 2 tax in the context of business
  combination and investment\, the challenges associated with participati
 on exemption and credit regimes within the Multinational Enterprise (MNE
 ) group and issues and tips with respect to the preparation and filing o
 f the GLOBE return.
LOCATION:Room 716 A\, Level 700\, MTCC
UID:ed8858f2-3f22-4596-b345-52c8b8e71ea3
END:VEVENT
END:VCALENDAR
