BEGIN:VCALENDAR
PRODID:-//Session events Calendar//IBA//EN
CALSCALE:GREGORIAN
VERSION:2.0
BEGIN:VEVENT
DTSTAMP:20260420T133022Z
DTSTART:20251103T161500Z
DTEND:20251103T173000Z
SUMMARY:Disclosure rules in stakebuilding and mandatory tender offers
DESCRIPTION:Carefully navigating disclosure rules - pre and post transact
 ion - is crucial to ensuring a successful deal. This session will discus
 s thresholds and requirements diverge per jurisdiction\, but timely iden
 tifying the lowest threshold and most onerous requirements is key.
LOCATION:Room 717 A\, Level 700\, MTCC
UID:2deb0281-e23b-4ce6-b372-c8302c46cc5b
END:VEVENT
END:VCALENDAR
