BEGIN:VCALENDAR
PRODID:-//Session events Calendar//IBA//EN
CALSCALE:GREGORIAN
VERSION:2.0
BEGIN:VEVENT
DTSTAMP:20260420T133022Z
DTSTART:20251103T153000Z
DTEND:20251103T160000Z
SUMMARY:Taxes Committee keynote speech
DESCRIPTION:
LOCATION:Room 716 A\, Level 700\, MTCC
UID:39f0e42f-6f8c-47a3-9e2e-46de0875fe6b
END:VEVENT
END:VCALENDAR
