BEGIN:VCALENDAR
PRODID:-//Session events Calendar//IBA//EN
CALSCALE:GREGORIAN
VERSION:2.0
BEGIN:VEVENT
DTSTAMP:20260422T160503Z
DTSTART:20251106T143000Z
DTEND:20251106T154500Z
SUMMARY:Trade in North America: impact of the presidential and federal el
 ections on the 2026 review of the USCMA
DESCRIPTION:This panel will discuss the impact of the change of leadershi
 p in the United States\, Canada and Mexico\, on the review of the North 
 American’s free trade agreement (the United States–Mexico–Canada Agreeme
 nt)\, scheduled in 2026. The previous revision introduced ground breakin
 g changes\, including the thorough supervision of labour standards at a 
 company level. What will the next revision bring?
LOCATION:Room 716 B\, Level 700\, MTCC
UID:5c7a1ae8-f9ca-4b3b-afcf-4fcd73e09fbf
END:VEVENT
END:VCALENDAR
