BEGIN:VCALENDAR
PRODID:-//Session events Calendar//IBA//EN
CALSCALE:GREGORIAN
VERSION:2.0
BEGIN:VEVENT
DTSTAMP:20260424T140256Z
DTSTART:20241112T064500Z
DTEND:20241112T081500Z
SUMMARY:Regulatory enforcement and compliance: navigating the complexitie
 s of anti-corruption investigations
DESCRIPTION:Join us for an in-depth exploration of regulatory enforcement
  mechanisms and compliance challenges in the context of anti-corruption 
 investigations. The speakers will examine the role of regulatory agencie
 s in investigating and prosecuting violations of securities laws\, anti-
 money laundering regulations and corporate governance standards. Partici
 pants will discuss best practices for corporate compliance programmes\, 
 whistleblower protection\, voluntary disclosure initiatives and cooperat
 ion with regulatory authorities. Through case studies of landmark enforc
 ement actions\, attendees will gain practical insights into navigating t
 he complexities of regulatory scrutiny and mitigating compliance risks i
 n an increasingly regulated business environment.
LOCATION:
UID:1d92fa5c-0f97-4eb1-bf16-ca1e7dc4107b
END:VEVENT
END:VCALENDAR
