BEGIN:VCALENDAR
PRODID:-//Session events Calendar//IBA//EN
CALSCALE:GREGORIAN
VERSION:2.0
BEGIN:VEVENT
DTSTAMP:20260424T202756Z
DTSTART:20241111T054500Z
DTEND:20241111T071500Z
SUMMARY:Anti-corruption laws and protection of investor interests
DESCRIPTION:The speakers will expound on the critical interplay between a
 nticorruption laws and investor protection in investment disputes. Explo
 re how anti-corruption due diligence shapes outcomes in mergers and acqu
 isitions (M&amp\;A) disputes and further how it plays a role in ensuring
  compliance and safeguarding investor interests. Gain insights into navi
 gating the complexities of crossborder disputes amidst evolving anti-cor
 ruption imperatives as the speakers seek to shed light on the intersecti
 on of anti-corruption regulations/enforcement and its impact on investor
  value.
LOCATION:
UID:53fdccda-de1f-4ec0-83c8-3869b901c6ee
END:VEVENT
END:VCALENDAR
