BEGIN:VCALENDAR
PRODID:-//Session events Calendar//IBA//EN
CALSCALE:GREGORIAN
VERSION:2.0
BEGIN:VEVENT
DTSTAMP:20260424T202756Z
DTSTART:20241111T024500Z
DTEND:20241111T040000Z
SUMMARY:Using technology in anti-corruption enforcement
DESCRIPTION:There has been an increased focus on enforcement actions agai
 nst individuals and organisations involved in corrupt practices\, with a
 uthorities around the world stepping up investigations and prosecutions.
  The use of technology has proven useful in anti-corruption efforts\, su
 ch as digital platforms for reporting corruption\, data analytics to det
 ect patterns of corruption\, blockchain for transparency in transactions
  and digital evidence in regulatory investigations. The speakers will be
  discussing the utility of technology\, the latest trends in anti-corrup
 tion efforts around the world\, successful strategies\, challenges and e
 merging issues.
LOCATION:
UID:ac2fe949-b278-474d-81ea-19baed9c1f0b
END:VEVENT
END:VCALENDAR
