BEGIN:VCALENDAR
PRODID:-//Session events Calendar//IBA//EN
CALSCALE:GREGORIAN
VERSION:2.0
BEGIN:VEVENT
DTSTAMP:20260421T155325Z
DTSTART:20240919T214500Z
DTEND:20240919T230000Z
SUMMARY:Anti-Corruption Committee open business meeting
DESCRIPTION:Open business meeting of the Anti-Corruption Committee\, open
  to members and Officers alike\, to discuss ongoing Committee activities
 \, updates\, projects\, and developments.
LOCATION:PALACIO DE CANAL 8\, LEVEL E1
UID:00ea3e52-ed1d-4210-ac24-024b886e54fd
END:VEVENT
END:VCALENDAR
