BEGIN:VCALENDAR
PRODID:-//Session events Calendar//IBA//EN
CALSCALE:GREGORIAN
VERSION:2.0
BEGIN:VEVENT
DTSTAMP:20260425T180528Z
DTSTART:20241024T073000Z
DTEND:20241024T084500Z
SUMMARY:Session five - Navigating cybersecurity and data privacy issues i
 n M&A transactions
DESCRIPTION:This panel will discuss key challenges for practitioners in s
 uccessfully managing cybersecurity and data privacy issues in merger and
  acquisition (M&amp\;A) transactions from both seller and acquiror persp
 ectives\, with an emphasis on considerations resulting from different ju
 risdictional rules and practices across Asia.
LOCATION:
UID:7300293a-9f4f-4266-a47d-1ad8914f8395
END:VEVENT
END:VCALENDAR
