BEGIN:VCALENDAR
PRODID:-//Session events Calendar//IBA//EN
CALSCALE:GREGORIAN
VERSION:2.0
BEGIN:VEVENT
DTSTAMP:20260425T180528Z
DTSTART:20241024T050000Z
DTEND:20241024T061500Z
SUMMARY:Session three - When the deal goes sour: how and what do you liti
 gate?
DESCRIPTION:As a consequence of the increase of cross-border mergers and 
 acquisitions (M&amp\;A) in Asia and globally\, combined with increase in
  interest rates\, trade tensions and sovereignty protection\, litigation
  has again become more prevalent following the closing of M&amp\;A deals
 . This session will discuss the most common post-closing litigation issu
 es\, and how to professionally handle them. Among other issues\, the pan
 el will discuss price adjustment\, representations and warranties (R&amp
 \;W) litigation\, and information rights post-closing.
LOCATION:
UID:31390b4b-dce1-4263-bdb0-03c638df542d
END:VEVENT
END:VCALENDAR
