BEGIN:VCALENDAR
PRODID:-//Session events Calendar//IBA//EN
CALSCALE:GREGORIAN
VERSION:2.0
BEGIN:VEVENT
DTSTAMP:20260422T142911Z
DTSTART:20240917T140000Z
DTEND:20240917T153000Z
SUMMARY:Business Human Rights Committee breakfast
DESCRIPTION:Join us for a Business Human Rights Committee breakfast meeti
 ng\, supported by the Anti-Corruption Committee\, to discuss the increas
 ing connectivity between human rights\, anti-corruption\, the environmen
 t\, and other legal practice areas.\n\nOur lead speakers will provide in
 itial insights\, followed by an open roundtable discussion where partici
 pants can share their thoughts and experiences.\n
LOCATION:PALACIO DE CANAL 8\, LEVEL E1
UID:7522047f-161d-4d55-80b8-63cf231dc78e
END:VEVENT
END:VCALENDAR
