BEGIN:VCALENDAR
PRODID:-//Session events Calendar//IBA//EN
CALSCALE:GREGORIAN
VERSION:2.0
BEGIN:VEVENT
DTSTAMP:20260421T153639Z
DTSTART:20240919T211500Z
DTEND:20240919T221500Z
SUMMARY:International Construction Projects Committee open business meeti
 ng
DESCRIPTION:
LOCATION:PALACIO DE CANAL 4\, LEVEL E1
UID:0e724c0e-2411-4b94-a1ec-c41beb2db4b5
END:VEVENT
END:VCALENDAR
