BEGIN:VCALENDAR
PRODID:-//Session events Calendar//IBA//EN
CALSCALE:GREGORIAN
VERSION:2.0
BEGIN:VEVENT
DTSTAMP:20260421T155417Z
DTSTART:20240919T214500Z
DTEND:20240919T224500Z
SUMMARY:Senior Lawyers’ Committee open business meeting
DESCRIPTION:An open meeting of the Senior Lawyers’ committee where all co
 nference participants are invited to learn more about the activities of 
 the committee and express their interest in participating in such activi
 ties.
LOCATION:PALACIO DE CANAL 5\, LEVEL E1
UID:d7c46922-02f9-43b4-913e-662db90036f7
END:VEVENT
END:VCALENDAR
