BEGIN:VCALENDAR
PRODID:-//Session events Calendar//IBA//EN
CALSCALE:GREGORIAN
VERSION:2.0
BEGIN:VEVENT
DTSTAMP:20260419T153909Z
DTSTART:20240523T080000Z
DTEND:20240523T093000Z
SUMMARY:Intellectual Property\, Communications and Technology Section Off
 icers Meeting
DESCRIPTION:
LOCATION:Craiova
UID:830682f2-fbcc-415c-ba78-d20f275412ca
END:VEVENT
END:VCALENDAR
