BEGIN:VCALENDAR
PRODID:-//Session events Calendar//IBA//EN
CALSCALE:GREGORIAN
VERSION:2.0
BEGIN:VEVENT
DTSTAMP:20260425T034520Z
DTSTART:20240612T121500Z
DTEND:20240612T131500Z
SUMMARY:Panel four - Tackling corruption (for real)
DESCRIPTION:Picking up on themes discussed in the interview\, a panel wil
 l consider how corporate anti-corruption efforts have evolved\, the limi
 ts of regulatory compliance and strategies for effectively tackling corr
 uption risks.\n
LOCATION:
UID:5a331993-73de-467f-8c18-d88263893aa9
END:VEVENT
END:VCALENDAR
