BEGIN:VCALENDAR
PRODID:-//Session events Calendar//IBA//EN
CALSCALE:GREGORIAN
VERSION:2.0
BEGIN:VEVENT
DTSTAMP:20260425T034503Z
DTSTART:20240612T070000Z
DTEND:20240612T071500Z
SUMMARY:Introduction and welcome remarks
DESCRIPTION:
LOCATION:
UID:78a70ccb-0e32-42f6-a3d0-894bd20cb951
END:VEVENT
END:VCALENDAR
