BEGIN:VCALENDAR
PRODID:-//Session events Calendar//IBA//EN
CALSCALE:GREGORIAN
VERSION:2.0
BEGIN:VEVENT
DTSTAMP:20260425T141304Z
DTSTART:20240523T110000Z
DTEND:20240523T120000Z
SUMMARY:Future of Legal Services Commission Officers Meeting
DESCRIPTION:
LOCATION:Galati
UID:4006d36c-4313-4a1a-9981-0fd419641606
END:VEVENT
END:VCALENDAR
