BEGIN:VCALENDAR
PRODID:-//Session events Calendar//IBA//EN
CALSCALE:GREGORIAN
VERSION:2.0
BEGIN:VEVENT
DTSTAMP:20260421T155416Z
DTSTART:20240919T203000Z
DTEND:20240919T214500Z
SUMMARY:What to do when a cash burning company is running out of cash? Se
 ll\, attract new financing\, restructuring or all of the above? Reflecti
 ng on the position of the shareholders\, the management and the financie
 rs
DESCRIPTION:This is a situation the clients want to avoid but where insol
 vency and restructuring lawyers meet practitioners in the closely held b
 usinesses.A session supported by the Closely Held Companies Committee.
LOCATION:CASA MONTEJO 1\, LEVEL S
UID:6e9e99c5-3dc8-4a85-864f-8a23163634de
END:VEVENT
END:VCALENDAR
