BEGIN:VCALENDAR
PRODID:-//Session events Calendar//IBA//EN
CALSCALE:GREGORIAN
VERSION:2.0
BEGIN:VEVENT
DTSTAMP:20260421T155252Z
DTSTART:20240919T221500Z
DTEND:20240919T233000Z
SUMMARY:Permit to travel: travellers in a new world of travel authorisati
 on
DESCRIPTION:Business and leisure travellers face a raft of new global sch
 emes that require pre-travel electronic authorisation. Is global travel 
 becoming more difficult?
LOCATION:CASA DEL DIEZMO 3\, LEVEL S
UID:c3b85ced-87ce-40b2-a71a-f123660deb49
END:VEVENT
END:VCALENDAR
