BEGIN:VCALENDAR
PRODID:-//Session events Calendar//IBA//EN
CALSCALE:GREGORIAN
VERSION:2.0
BEGIN:VEVENT
DTSTAMP:20260422T142911Z
DTSTART:20240916T171500Z
DTEND:20240916T183000Z
SUMMARY:The legal roadmap to net zero: creating positive and transformati
 ve change in the delivery of energy transition infrastructure
DESCRIPTION:Following our session in Paris 2023\, this session will consi
 der the legal roadmap to net zero with a particular focus on issues rela
 ted to the delivery of key infrastructure. As we move along the journey 
 towards the delivery of net zero milestones\, this session will review k
 ey themes encountered along the way: the role of legal frameworks\, nati
 onal and trans-national\; the issue of environmental justice and achievi
 ng a just transition for emerging economies\; friction in areas such as 
 regulation\, permitting and grid capacity\; and the impact of conflicts 
 and imposition of sanctions. This session will look forward and consider
  how to transform the delivery process\, drawing on lessons learned to d
 ate and considering key milestones achieved\, roadblocks encountered and
  how to create a clear path to achieve the net zero goals.
LOCATION:PALACIO DE CANAL 10\, LEVEL E1
UID:547a7eb5-7a8d-4a1e-b203-13020da3999f
END:VEVENT
END:VCALENDAR
