BEGIN:VCALENDAR
PRODID:-//Session events Calendar//IBA//EN
CALSCALE:GREGORIAN
VERSION:2.0
BEGIN:VEVENT
DTSTAMP:20260422T001515Z
DTSTART:20240918T163000Z
DTEND:20240918T183000Z
SUMMARY:Bar Leaders Open Forum
DESCRIPTION:
LOCATION:CASA DEL DIEZMO 3\, LEVEL S
UID:8b2fdd1d-440d-4b26-8fb9-e34b95da393f
END:VEVENT
END:VCALENDAR
