BEGIN:VCALENDAR
PRODID:-//Session events Calendar//IBA//EN
CALSCALE:GREGORIAN
VERSION:2.0
BEGIN:VEVENT
DTSTAMP:20260422T160051Z
DTSTART:20240618T083000Z
DTEND:20240618T094500Z
SUMMARY:Competition law and labour markets
DESCRIPTION:
LOCATION:
UID:5887f291-bab1-4120-bede-235f4322a88a
END:VEVENT
END:VCALENDAR
