BEGIN:VCALENDAR
PRODID:-//Session events Calendar//IBA//EN
CALSCALE:GREGORIAN
VERSION:2.0
BEGIN:VEVENT
DTSTAMP:20260422T110306Z
DTSTART:20240919T153000Z
DTEND:20240919T164500Z
SUMMARY:“Everything\, everywhere\, all at once”: The essential role of la
 wyers in implementing the net zero transition and tackling the triple pl
 anetary crisis
DESCRIPTION:Legal experts from private practice and civil society\, and b
 ar association leaders explore the many roles of lawyers in addressing t
 he climate change\, biodiversity loss and pollution crises.\nHear about 
 legal capacity building across nations\; how lawyers\, bars and law soci
 eties are facilitating the net zero transition\; and the rise of climate
  competent lawyering and what this means in practice for lawyers when ad
 vising clients.\n
LOCATION:PALACIO DE CANAL 1\, LEVEL E1
UID:3b81c1ff-f86f-4fdc-856b-783aec06f4c0
END:VEVENT
END:VCALENDAR
