BEGIN:VCALENDAR
PRODID:-//Session events Calendar//IBA//EN
CALSCALE:GREGORIAN
VERSION:2.0
BEGIN:VEVENT
DTSTAMP:20260425T115720Z
DTSTART:20240917T221500Z
DTEND:20240917T233000Z
SUMMARY:Commercial mediation in conflict zones
DESCRIPTION:There are as many ways of dealing with conflict as there are 
 forms of conflict. Some choose to litigate as a means of resolving a con
 flict\, others deal with conflict by taking up arms. Can you and should 
 you seek to pursue commercial relationships and negotiate with an advers
 ary? During\, and even after\, armed conflicts end trust is eroded and m
 otives are questioned. Should parties engaged in commercial ventures try
  to negotiate in this dynamic\, can mediation provide any answers? And w
 hat role does culture play in understanding these issues?
LOCATION:CASA MONTEJO 3\, LEVEL S
UID:ccf7faf7-fe93-44a3-93b5-14ce9e6506e5
END:VEVENT
END:VCALENDAR
