BEGIN:VCALENDAR
PRODID:-//Session events Calendar//IBA//EN
CALSCALE:GREGORIAN
VERSION:2.0
BEGIN:VEVENT
DTSTAMP:20260422T020154Z
DTSTART:20240919T171500Z
DTEND:20240919T183000Z
SUMMARY:Mediation in the air
DESCRIPTION:The USD$800bn aviation industry is a huge player in the globa
 l economy which\, notoriously\, lags behind other industries in its use 
 of alternative dispute resolution (ADR). Join us for a spirited conversa
 tion on the causes of this lag and the various measures being taken to e
 ncourage uptake in mediation throughout the industry. We will focus on s
 everal practice areas and industry sectors\, including mass tort claims\
 , contractual disputes with regard to the original equipment manufacture
 r (OEM)\, leasing and financing\, and maintenance\, repair\, and overhau
 l sectors.
LOCATION:PALACIO DE CANAL 2\, LEVEL E1
UID:8dd611e5-2eb3-48be-88e2-c420408bfd96
END:VEVENT
END:VCALENDAR
