BEGIN:VCALENDAR
PRODID:-//Session events Calendar//IBA//EN
CALSCALE:GREGORIAN
VERSION:2.0
BEGIN:VEVENT
DTSTAMP:20260421T092743Z
DTSTART:20240917T203000Z
DTEND:20240917T214500Z
SUMMARY:The importance of judicial independence: views across the globe
DESCRIPTION:Why\, really\, is judicial independence so important? And wha
 t actions or non-actions from the judiciary are viewed by some countries
  as evidencing a lack of independence? What countries struggle with judi
 cial independence? What advice can a neutral source provide to those cou
 ntries to make changes if changes would be helpful? This interesting pan
 el of judges and lawyers from a variety of countries will look at some t
 ough issues and talk through the challenges to achieve judicial independ
 ence and the value it can provide to individuals\, the business sector\,
  and government.
LOCATION:CASA MONTEJO 3\, LEVEL S
UID:dfbc4fe4-1974-4ef6-aa6e-c918e76c2ecc
END:VEVENT
END:VCALENDAR
