BEGIN:VCALENDAR
PRODID:-//Session events Calendar//IBA//EN
CALSCALE:GREGORIAN
VERSION:2.0
BEGIN:VEVENT
DTSTAMP:20260425T183101Z
DTSTART:20240919T153000Z
DTEND:20240919T164500Z
SUMMARY:Shareholder disputes: mediate\, litigate or a hybrid strategy? 
DESCRIPTION:This session will examine the different litigation and mediat
 ion approaches and strategies in resolving shareholder disputes\, and co
 nsider the advantages and disadvantages of each. The presentations and d
 iscussion at the session will consider the extent to which the two dispu
 te resolution methods can be combined in the context of shareholder disp
 utes to bring about an efficient resolution. Shareholder disputes may be
  uniquely suited to use of a combined method.
LOCATION:PALACIO DE CANAL 11\, LEVEL E1
UID:5f1f2a14-1d55-47b8-9911-e522d5eabe2a
END:VEVENT
END:VCALENDAR
