BEGIN:VCALENDAR
PRODID:-//Session events Calendar//IBA//EN
CALSCALE:GREGORIAN
VERSION:2.0
BEGIN:VEVENT
DTSTAMP:20260421T155416Z
DTSTART:20240916T221500Z
DTEND:20240916T233000Z
SUMMARY:The law firm of the present\, experience from Latin America and a
 round the world
DESCRIPTION:In recent years\, the legal market has experienced important 
 changes\, where the business model\, the career and the clients of the f
 irms have impacted the strategy of firms. The pandemic accelerated many 
 changes that firms had seen coming. This panel will review and discuss t
 hese latest changes\, already implemented in Latin America and other jur
 isdictions\, which define the law firm of today\, together with the chal
 lenges that the legal profession will face in the near future.
LOCATION:CASA DEL DIEZMO 3\, LEVEL S
UID:8246a717-92b6-4ea7-9648-62881279b7fc
END:VEVENT
END:VCALENDAR
